BEGIN:VCALENDAR
VERSION:2.0
PRODID:http://www.pr-mayen.de
BEGIN:VEVENT
UID:d4bb67d5-3c8e-11f1-a3e9-0242ac11002b-1778086800000-de
DTSTAMP:20260420T075917Z
DTSTART:20260506T170000Z
DTEND:20260506T190000Z
SUMMARY;LANGUAGE=de:Jahreshauptversammlung 
DESCRIPTION;LANGUAGE=de:Um die Zukunft des Vereins zu gewährleisten\, suchen wir weiterhin motivierte Personen\, die Freude an der Mitarbeit im Leitungsteam haben
IMAGE;VALUE=URI;DISPLAY=BADGE;FMTTYPE=image/jpeg:http://www.pr-mayen.dehttps://cdn.bistum-trier.de/export/shared/05_stockfotos/hannah-busing-Zyx1bK9mqmA-unsplash.jpg
URL:http://www.pr-mayen.de/aktuelles/veranstaltungen/veranstaltung/Jahreshauptversammlung-2026.05.06/
END:VEVENT
END:VCALENDAR
