BEGIN:VCALENDAR
VERSION:2.0
PRODID:http://www.pr-mayen.de
BEGIN:VEVENT
UID:d2d5746d-213a-11f1-a7a7-0242ac11002b-1777568400000-de
DTSTAMP:20260316T131955Z
DTSTART:20260430T170000Z
DTEND:20260430T190000Z
SUMMARY;LANGUAGE=de:Literatur (V)Erbrechen - Werkschau des persönlichen Wahnsinns
DESCRIPTION;LANGUAGE=de:Seit nunmehr 30 Jahren verarbeitet Klaus Dillmann persönliche Geschichten und skurrile Erlebnisse in Geschichten\, Gedichten und Glossen.
IMAGE;VALUE=URI;DISPLAY=BADGE;FMTTYPE=image/jpeg:http://www.pr-mayen.de/export/sites/pastr/mayen/.galleries/bilder/Autorenlesung-30.4.26-MGH.jpg
END:VEVENT
END:VCALENDAR
