BEGIN:VCALENDAR
VERSION:2.0
PRODID:http://www.pr-mayen.de
BEGIN:VEVENT
UID:82886fd7-213c-11f1-a7a7-0242ac11002b-1777303800000-de
DTSTAMP:20260316T133159Z
DTSTART:20260427T153000Z
DTEND:20260427T170000Z
SUMMARY;LANGUAGE=de:Einsamkeit verstehen- warum echte Verbundenheit bei uns selbst beginnt
DESCRIPTION;LANGUAGE=de:Einsamkeit ist ein Thema\, das in unserer Gesellschaft immer mehr Menschen aller Altersgruppen betrifft.
IMAGE;VALUE=URI;DISPLAY=BADGE;FMTTYPE=image/jpeg:http://www.pr-mayen.de/export/sites/pastr/mayen/.galleries/bilder/Vortrag-Einsamkeit-verstehen-27.4.26.jpg
END:VEVENT
END:VCALENDAR
